BEGIN:VCALENDAR
VERSION:2.0
PRODID:-//The Metropolitan Youth Orchestra of New York - ECPv6.15.18//NONSGML v1.0//EN
CALSCALE:GREGORIAN
METHOD:PUBLISH
X-ORIGINAL-URL:https://www.myo.org
X-WR-CALDESC:Events for The Metropolitan Youth Orchestra of New York
REFRESH-INTERVAL;VALUE=DURATION:PT1H
X-Robots-Tag:noindex
X-PUBLISHED-TTL:PT1H
BEGIN:VTIMEZONE
TZID:America/New_York
BEGIN:DAYLIGHT
TZOFFSETFROM:-0500
TZOFFSETTO:-0400
TZNAME:EDT
DTSTART:20170312T070000
END:DAYLIGHT
BEGIN:STANDARD
TZOFFSETFROM:-0400
TZOFFSETTO:-0500
TZNAME:EST
DTSTART:20171105T060000
END:STANDARD
BEGIN:DAYLIGHT
TZOFFSETFROM:-0500
TZOFFSETTO:-0400
TZNAME:EDT
DTSTART:20180311T070000
END:DAYLIGHT
BEGIN:STANDARD
TZOFFSETFROM:-0400
TZOFFSETTO:-0500
TZNAME:EST
DTSTART:20181104T060000
END:STANDARD
BEGIN:DAYLIGHT
TZOFFSETFROM:-0500
TZOFFSETTO:-0400
TZNAME:EDT
DTSTART:20190310T070000
END:DAYLIGHT
BEGIN:STANDARD
TZOFFSETFROM:-0400
TZOFFSETTO:-0500
TZNAME:EST
DTSTART:20191103T060000
END:STANDARD
END:VTIMEZONE
BEGIN:VEVENT
DTSTART;TZID=America/New_York:20180422T090000
DTEND;TZID=America/New_York:20180422T170000
DTSTAMP:20260422T082424
CREATED:20180215T200008Z
LAST-MODIFIED:20180222T173816Z
UID:4860-1524387600-1524416400@www.myo.org
SUMMARY:Clarinet Day at the Jeanne Rimsky Theater at Landmark on Mainstreet
DESCRIPTION:Clarinet Day at the Jeanne Rimsky Theater at Landmark on Mainstreet\n Register for Clarinet Day\n\nJoin us for masterclasses led by Anthony McGill\, Principal Clarinet of the New York Philharmonic\, and Bass Clarinetist\, Composer\, and Arranger Michael Lowenstern. The masterclasses are free to audit. Clarinetists interested in performing in one of the masterclasses must submit a pre-screening recording and a non-refundable $25 application fee. Clarinetists ages 8-18 will be given priority during the masterclass application process as MYO is a youth music training program. \nThe day will also include an opportunity to participate in a Clarinet Choir conducted by Dr. Levana Cohen. There is no charge to participate in the Clarinet Choir. \nClarinet Day and Masterclass Application Deadline: Monday\, April 2\, 2018\nMasterclass Decisions and Notification by Email: Monday\, April 9\, 2018 \n\n2018 Clarinet Day Schedule\n\n9:00 – 9:30 AM – Check In and Introductions\n9:30 – 11:30 AM – Clarinet Masterclass with Anthony McGill\n11:30 AM – 12:00 PM – Q & A with Anthony McGill\n12:00 – 1:30 PM – Lunch: Vendor station will be open during lunch for participants to try Vandoren mouthpieces\, reeds\, ligatures\, and more\n1:30 – 3:30 PM – Bass Clarinet / Clarinet Masterclass with Michael Lowenstern\n3:30 – 4:00 PM – Q & A with Michael Lowenstern\n4:00 – 5:00 PM – Clarinet Choir reading session including Michael Lowenstern’s arrangement of Uptown Funk\n\nThe 2018 Clarinet Day Schedule is subject to change. \n\n2018 Clarinet Day Sponsors Include:\nVandoren\n Wright Music \nDownload and Share Clarinet Day Flyer
URL:https://www.myo.org/event/2018-clarinet-day/
LOCATION:Jeanne Rimsky Theater at Landmark on Main Street\, 232 Main Street\, Port Washington\, NY\, 11050\, United States
CATEGORIES:2017-2018 Community Events
ATTACH;FMTTYPE=image/png:https://www.myo.org/wp-content/uploads/2018/02/Clarinet-Day-2018.png
ORGANIZER;CN="The Metropolitan Youth Orchestra of New York":MAILTO:admin@myo.org
END:VEVENT
END:VCALENDAR